Package: clustifyr Version: 1.23.0 Command: /Library/Frameworks/R.framework/Resources/bin/R CMD INSTALL clustifyr StartedAt: 2025-11-18 15:24:15 -0500 (Tue, 18 Nov 2025) EndedAt: 2025-11-18 15:24:59 -0500 (Tue, 18 Nov 2025) EllapsedTime: 44.0 seconds RetCode: 0 Status: OK