Package: compEpiTools Version: 1.45.0 Command: /Library/Frameworks/R.framework/Resources/bin/R CMD build --keep-empty-dirs --no-resave-data compEpiTools StartedAt: 2025-11-18 16:09:00 -0500 (Tue, 18 Nov 2025) EndedAt: 2025-11-18 16:09:37 -0500 (Tue, 18 Nov 2025) EllapsedTime: 37.4 seconds RetCode: 0 Status: OK PackageFile: compEpiTools_1.45.0.tar.gz PackageFileSize: 2.166 MiB