Package: compEpiTools Version: 1.45.0 Command: /home/biocbuild/bbs-3.23-bioc/R/bin/R CMD INSTALL compEpiTools StartedAt: 2025-11-23 15:50:08 -0500 (Sun, 23 Nov 2025) EndedAt: 2025-11-23 15:51:07 -0500 (Sun, 23 Nov 2025) EllapsedTime: 58.9 seconds RetCode: 0 Status: OK