Package: compSPOT Version: 1.9.0 Command: rm -rf compSPOT.buildbin-libdir && mkdir compSPOT.buildbin-libdir && /Users/biocbuild/BBS/utils/build-universal.sh compSPOT_1.9.0.tar.gz /Library/Frameworks/R.framework/Resources/bin/R compSPOT.buildbin-libdir StartedAt: 2025-11-20 01:27:30 -0500 (Thu, 20 Nov 2025) EndedAt: 2025-11-20 01:27:42 -0500 (Thu, 20 Nov 2025) EllapsedTime: 11.5 seconds RetCode: 0 Status: OK PackageFile: compSPOT_1.9.0.tgz PackageFileSize: 465.9 KiB