Package: compSPOT Version: 1.9.0 Command: /Library/Frameworks/R.framework/Resources/bin/R CMD INSTALL compSPOT StartedAt: 2025-11-19 15:17:34 -0500 (Wed, 19 Nov 2025) EndedAt: 2025-11-19 15:17:56 -0500 (Wed, 19 Nov 2025) EllapsedTime: 21.2 seconds RetCode: 0 Status: OK