Package: compcodeR Version: 1.47.0 Command: rm -rf compcodeR.buildbin-libdir && mkdir compcodeR.buildbin-libdir && /Users/biocbuild/BBS/utils/build-universal.sh compcodeR_1.47.0.tar.gz /Library/Frameworks/R.framework/Resources/bin/R compcodeR.buildbin-libdir StartedAt: 2025-11-19 23:29:08 -0500 (Wed, 19 Nov 2025) EndedAt: 2025-11-19 23:29:15 -0500 (Wed, 19 Nov 2025) EllapsedTime: 7.1 seconds RetCode: 0 Status: OK PackageFile: compcodeR_1.47.0.tgz PackageFileSize: 2.708 MiB