Package: compcodeR Version: 1.47.0 Command: /Library/Frameworks/R.framework/Resources/bin/R CMD INSTALL compcodeR StartedAt: 2025-11-19 15:06:20 -0500 (Wed, 19 Nov 2025) EndedAt: 2025-11-19 15:06:37 -0500 (Wed, 19 Nov 2025) EllapsedTime: 16.7 seconds RetCode: 0 Status: OK