Package: compcodeR Version: 1.47.0 Command: rm -rf compcodeR.buildbin-libdir && mkdir compcodeR.buildbin-libdir && /Users/biocbuild/BBS/utils/build-universal.sh compcodeR_1.47.0.tar.gz /Library/Frameworks/R.framework/Resources/bin/R compcodeR.buildbin-libdir StartedAt: 2025-11-20 01:27:27 -0500 (Thu, 20 Nov 2025) EndedAt: 2025-11-20 01:27:50 -0500 (Thu, 20 Nov 2025) EllapsedTime: 23.2 seconds RetCode: 0 Status: OK PackageFile: compcodeR_1.47.0.tgz PackageFileSize: 2.703 MiB