Package: compcodeR Version: 1.47.0 Command: /Library/Frameworks/R.framework/Resources/bin/R CMD INSTALL compcodeR StartedAt: 2025-11-19 15:16:23 -0500 (Wed, 19 Nov 2025) EndedAt: 2025-11-19 15:16:55 -0500 (Wed, 19 Nov 2025) EllapsedTime: 32.2 seconds RetCode: 0 Status: OK