Package: compcodeR Version: 1.47.0 Command: /home/biocbuild/bbs-3.23-bioc/R/bin/R CMD build --keep-empty-dirs --no-resave-data compcodeR StartedAt: 2025-11-19 17:00:10 -0500 (Wed, 19 Nov 2025) EndedAt: 2025-11-19 17:00:31 -0500 (Wed, 19 Nov 2025) EllapsedTime: 21.1 seconds RetCode: 0 Status: OK PackageFile: compcodeR_1.47.0.tar.gz PackageFileSize: 4.743 MiB