Package: compcodeR Version: 1.47.0 Command: /home/biocbuild/bbs-3.23-bioc/R/bin/R CMD INSTALL compcodeR StartedAt: 2025-11-19 15:11:35 -0500 (Wed, 19 Nov 2025) EndedAt: 2025-11-19 15:12:05 -0500 (Wed, 19 Nov 2025) EllapsedTime: 29.5 seconds RetCode: 0 Status: OK