Package: csdR Version: 1.17.0 Command: /Library/Frameworks/R.framework/Resources/bin/R CMD build --keep-empty-dirs --no-resave-data csdR StartedAt: 2025-11-18 16:13:03 -0500 (Tue, 18 Nov 2025) EndedAt: 2025-11-18 16:13:20 -0500 (Tue, 18 Nov 2025) EllapsedTime: 17.2 seconds RetCode: 0 Status: OK PackageFile: csdR_1.17.0.tar.gz PackageFileSize: 1.456 MiB