Package: csdR Version: 1.17.0 Command: /Library/Frameworks/R.framework/Resources/bin/R CMD INSTALL csdR StartedAt: 2025-11-18 15:33:29 -0500 (Tue, 18 Nov 2025) EndedAt: 2025-11-18 15:33:40 -0500 (Tue, 18 Nov 2025) EllapsedTime: 10.6 seconds RetCode: 0 Status: OK