Package: ddPCRclust Version: 1.31.0 Command: /Library/Frameworks/R.framework/Resources/bin/R CMD INSTALL ddPCRclust StartedAt: 2025-11-18 15:18:43 -0500 (Tue, 18 Nov 2025) EndedAt: 2025-11-18 15:18:48 -0500 (Tue, 18 Nov 2025) EllapsedTime: 5.5 seconds RetCode: 0 Status: OK