Package: ddPCRclust Version: 1.31.0 Command: /Library/Frameworks/R.framework/Resources/bin/R CMD build --keep-empty-dirs --no-resave-data ddPCRclust StartedAt: 2025-11-19 16:43:46 -0500 (Wed, 19 Nov 2025) EndedAt: 2025-11-19 16:44:32 -0500 (Wed, 19 Nov 2025) EllapsedTime: 45.7 seconds RetCode: 0 Status: OK PackageFile: ddPCRclust_1.31.0.tar.gz PackageFileSize: 1.192 MiB