Package: ddPCRclust Version: 1.31.0 Command: /Library/Frameworks/R.framework/Resources/bin/R CMD INSTALL ddPCRclust StartedAt: 2025-11-19 15:22:27 -0500 (Wed, 19 Nov 2025) EndedAt: 2025-11-19 15:22:52 -0500 (Wed, 19 Nov 2025) EllapsedTime: 24.9 seconds RetCode: 0 Status: OK