Package: diffGeneAnalysis Version: 1.93.0 Command: rm -rf diffGeneAnalysis.buildbin-libdir && mkdir diffGeneAnalysis.buildbin-libdir && /Users/biocbuild/BBS/utils/build-universal.sh diffGeneAnalysis_1.93.0.tar.gz /Library/Frameworks/R.framework/Resources/bin/R diffGeneAnalysis.buildbin-libdir StartedAt: 2025-11-20 01:30:29 -0500 (Thu, 20 Nov 2025) EndedAt: 2025-11-20 01:30:35 -0500 (Thu, 20 Nov 2025) EllapsedTime: 5.8 seconds RetCode: 0 Status: OK PackageFile: diffGeneAnalysis_1.93.0.tgz PackageFileSize: 250.2 KiB