Package: diffGeneAnalysis Version: 1.93.0 Command: /Library/Frameworks/R.framework/Resources/bin/R CMD build --keep-empty-dirs --no-resave-data diffGeneAnalysis StartedAt: 2025-11-19 16:49:49 -0500 (Wed, 19 Nov 2025) EndedAt: 2025-11-19 16:49:59 -0500 (Wed, 19 Nov 2025) EllapsedTime: 10.2 seconds RetCode: 0 Status: OK PackageFile: diffGeneAnalysis_1.93.0.tar.gz PackageFileSize: 213.2 KiB