Package: diffGeneAnalysis Version: 1.93.0 Command: /Library/Frameworks/R.framework/Resources/bin/R CMD INSTALL diffGeneAnalysis StartedAt: 2025-11-19 15:13:20 -0500 (Wed, 19 Nov 2025) EndedAt: 2025-11-19 15:13:53 -0500 (Wed, 19 Nov 2025) EllapsedTime: 32.7 seconds RetCode: 0 Status: OK