Package: diffGeneAnalysis Version: 1.93.0 Command: /home/biocbuild/bbs-3.23-bioc/R/bin/R CMD build --keep-empty-dirs --no-resave-data diffGeneAnalysis StartedAt: 2025-11-19 17:21:14 -0500 (Wed, 19 Nov 2025) EndedAt: 2025-11-19 17:21:19 -0500 (Wed, 19 Nov 2025) EllapsedTime: 5.0 seconds RetCode: 0 Status: OK PackageFile: diffGeneAnalysis_1.93.0.tar.gz PackageFileSize: 213.2 KiB