Package: diffHic Version: 1.43.0 Command: rm -rf diffHic.buildbin-libdir && mkdir diffHic.buildbin-libdir && /Users/biocbuild/BBS/utils/build-universal.sh diffHic_1.43.0.tar.gz /Library/Frameworks/R.framework/Resources/bin/R diffHic.buildbin-libdir StartedAt: 2025-11-19 23:31:47 -0500 (Wed, 19 Nov 2025) EndedAt: 2025-11-19 23:32:27 -0500 (Wed, 19 Nov 2025) EllapsedTime: 39.8 seconds RetCode: 0 Status: OK PackageFile: diffHic_1.43.0.tgz PackageFileSize: 2.521 MiB