Package: diffHic Version: 1.43.0 Command: /Library/Frameworks/R.framework/Resources/bin/R CMD build --keep-empty-dirs --no-resave-data diffHic StartedAt: 2025-11-18 16:20:54 -0500 (Tue, 18 Nov 2025) EndedAt: 2025-11-18 16:21:29 -0500 (Tue, 18 Nov 2025) EllapsedTime: 35.4 seconds RetCode: 0 Status: OK PackageFile: diffHic_1.43.0.tar.gz PackageFileSize: 1.517 MiB