Package: diffHic Version: 1.43.0 Command: /Library/Frameworks/R.framework/Resources/bin/R CMD INSTALL diffHic StartedAt: 2025-11-18 15:29:05 -0500 (Tue, 18 Nov 2025) EndedAt: 2025-11-18 15:29:36 -0500 (Tue, 18 Nov 2025) EllapsedTime: 30.7 seconds RetCode: 0 Status: OK