Package: diffHic Version: 1.43.0 Command: /home/biocbuild/bbs-3.23-bioc/R/bin/R CMD build --keep-empty-dirs --no-resave-data diffHic StartedAt: 2025-11-18 18:09:55 -0500 (Tue, 18 Nov 2025) EndedAt: 2025-11-18 18:11:31 -0500 (Tue, 18 Nov 2025) EllapsedTime: 96.1 seconds RetCode: 0 Status: OK PackageFile: diffHic_1.43.0.tar.gz PackageFileSize: 1.517 MiB