Package: diffHic Version: 1.43.0 Command: /home/biocbuild/bbs-3.23-bioc/R/bin/R CMD INSTALL diffHic StartedAt: 2025-11-18 16:27:23 -0500 (Tue, 18 Nov 2025) EndedAt: 2025-11-18 16:28:57 -0500 (Tue, 18 Nov 2025) EllapsedTime: 93.6 seconds RetCode: 0 Status: OK