Package: diffUTR Version: 1.19.0 Command: /Library/Frameworks/R.framework/Resources/bin/R CMD build --keep-empty-dirs --no-resave-data diffUTR StartedAt: 2025-11-19 16:11:52 -0500 (Wed, 19 Nov 2025) EndedAt: 2025-11-19 16:12:26 -0500 (Wed, 19 Nov 2025) EllapsedTime: 33.4 seconds RetCode: 0 Status: OK PackageFile: diffUTR_1.19.0.tar.gz PackageFileSize: 1.38 MiB