Package: diffUTR Version: 1.19.0 Command: /Library/Frameworks/R.framework/Resources/bin/R CMD INSTALL diffUTR StartedAt: 2025-11-19 15:23:17 -0500 (Wed, 19 Nov 2025) EndedAt: 2025-11-19 15:23:36 -0500 (Wed, 19 Nov 2025) EllapsedTime: 19.1 seconds RetCode: 0 Status: OK