Package: diffUTR Version: 1.19.0 Command: rm -rf diffUTR.buildbin-libdir && mkdir diffUTR.buildbin-libdir && /Users/biocbuild/BBS/utils/build-universal.sh diffUTR_1.19.0.tar.gz /Library/Frameworks/R.framework/Resources/bin/R diffUTR.buildbin-libdir StartedAt: 2025-11-20 01:30:30 -0500 (Thu, 20 Nov 2025) EndedAt: 2025-11-20 01:31:36 -0500 (Thu, 20 Nov 2025) EllapsedTime: 65.9 seconds RetCode: 0 Status: OK PackageFile: diffUTR_1.19.0.tgz PackageFileSize: 1.429 MiB