Package: diffcoexp Version: 1.31.0 Command: /Library/Frameworks/R.framework/Resources/bin/R CMD INSTALL diffcoexp StartedAt: 2025-11-19 15:24:40 -0500 (Wed, 19 Nov 2025) EndedAt: 2025-11-19 15:24:53 -0500 (Wed, 19 Nov 2025) EllapsedTime: 13.1 seconds RetCode: 0 Status: OK