Package: diffcoexp Version: 1.31.0 Command: /Library/Frameworks/R.framework/Resources/bin/R CMD build --keep-empty-dirs --no-resave-data diffcoexp StartedAt: 2025-11-19 16:49:31 -0500 (Wed, 19 Nov 2025) EndedAt: 2025-11-19 16:50:27 -0500 (Wed, 19 Nov 2025) EllapsedTime: 55.9 seconds RetCode: 0 Status: OK PackageFile: diffcoexp_1.31.0.tar.gz PackageFileSize: 293.7 KiB