Package: diffcoexp Version: 1.31.0 Command: /Library/Frameworks/R.framework/Resources/bin/R CMD INSTALL diffcoexp StartedAt: 2025-11-19 15:40:48 -0500 (Wed, 19 Nov 2025) EndedAt: 2025-11-19 15:41:31 -0500 (Wed, 19 Nov 2025) EllapsedTime: 43.3 seconds RetCode: 0 Status: OK