Package: diffcyt Version: 1.31.0 Command: rm -rf diffcyt.buildbin-libdir && mkdir diffcyt.buildbin-libdir && /Users/biocbuild/BBS/utils/build-universal.sh diffcyt_1.31.0.tar.gz /Library/Frameworks/R.framework/Resources/bin/R diffcyt.buildbin-libdir StartedAt: 2025-11-19 23:31:40 -0500 (Wed, 19 Nov 2025) EndedAt: 2025-11-19 23:31:56 -0500 (Wed, 19 Nov 2025) EllapsedTime: 16.3 seconds RetCode: 0 Status: OK PackageFile: diffcyt_1.31.0.tgz PackageFileSize: 866 KiB