Package: diffcyt Version: 1.31.0 Command: /Library/Frameworks/R.framework/Resources/bin/R CMD check --install=check:diffcyt.install-out.txt --library=/Library/Frameworks/R.framework/Resources/library --no-vignettes --timings diffcyt_1.31.0.tar.gz StartedAt: 2025-11-19 19:35:23 -0500 (Wed, 19 Nov 2025) EndedAt: 2025-11-19 19:37:20 -0500 (Wed, 19 Nov 2025) EllapsedTime: 117.5 seconds RetCode: 0 Status: OK CheckDir: diffcyt.Rcheck Warnings: 0