Package: diffcyt Version: 1.31.0 Command: rm -rf diffcyt.buildbin-libdir && mkdir diffcyt.buildbin-libdir && /Users/biocbuild/BBS/utils/build-universal.sh diffcyt_1.31.0.tar.gz /Library/Frameworks/R.framework/Resources/bin/R diffcyt.buildbin-libdir StartedAt: 2025-11-20 01:30:27 -0500 (Thu, 20 Nov 2025) EndedAt: 2025-11-20 01:31:13 -0500 (Thu, 20 Nov 2025) EllapsedTime: 46.1 seconds RetCode: 0 Status: OK PackageFile: diffcyt_1.31.0.tgz PackageFileSize: 864.3 KiB