Package: diffcyt Version: 1.31.0 Command: /Library/Frameworks/R.framework/Resources/bin/R CMD check --install=check:diffcyt.install-out.txt --library=/Library/Frameworks/R.framework/Resources/library --no-vignettes --timings diffcyt_1.31.0.tar.gz StartedAt: 2025-11-25 20:55:41 -0500 (Tue, 25 Nov 2025) EndedAt: 2025-11-25 21:00:39 -0500 (Tue, 25 Nov 2025) EllapsedTime: 298.8 seconds RetCode: 0 Status: OK CheckDir: diffcyt.Rcheck Warnings: 0