Package: diffcyt Version: 1.31.0 Command: /Library/Frameworks/R.framework/Resources/bin/R CMD INSTALL diffcyt StartedAt: 2025-11-19 15:29:28 -0500 (Wed, 19 Nov 2025) EndedAt: 2025-11-19 15:30:13 -0500 (Wed, 19 Nov 2025) EllapsedTime: 44.6 seconds RetCode: 0 Status: OK