Package: diffcyt Version: 1.31.0 Command: /home/biocbuild/bbs-3.23-bioc/R/bin/R CMD check --install=check:diffcyt.install-out.txt --library=/home/biocbuild/bbs-3.23-bioc/R/site-library --timings diffcyt_1.31.0.tar.gz StartedAt: 2025-11-19 22:59:49 -0500 (Wed, 19 Nov 2025) EndedAt: 2025-11-19 23:05:44 -0500 (Wed, 19 Nov 2025) EllapsedTime: 355.5 seconds RetCode: 0 Status: OK CheckDir: diffcyt.Rcheck Warnings: 0