Package: diffcyt Version: 1.31.0 Command: /home/biocbuild/bbs-3.23-bioc/R/bin/R CMD INSTALL diffcyt StartedAt: 2025-11-19 15:26:24 -0500 (Wed, 19 Nov 2025) EndedAt: 2025-11-19 15:26:56 -0500 (Wed, 19 Nov 2025) EllapsedTime: 32.0 seconds RetCode: 0 Status: OK