Package: diffuStats Version: 1.31.0 Command: /Library/Frameworks/R.framework/Resources/bin/R CMD build --keep-empty-dirs --no-resave-data diffuStats StartedAt: 2025-11-19 16:11:38 -0500 (Wed, 19 Nov 2025) EndedAt: 2025-11-19 16:11:59 -0500 (Wed, 19 Nov 2025) EllapsedTime: 20.2 seconds RetCode: 0 Status: OK PackageFile: diffuStats_1.31.0.tar.gz PackageFileSize: 1.331 MiB