Package: diffuStats Version: 1.31.0 Command: /Library/Frameworks/R.framework/Resources/bin/R CMD INSTALL diffuStats StartedAt: 2025-11-19 15:06:06 -0500 (Wed, 19 Nov 2025) EndedAt: 2025-11-19 15:06:19 -0500 (Wed, 19 Nov 2025) EllapsedTime: 12.3 seconds RetCode: 0 Status: OK