Package: diffuStats Version: 1.31.0 Command: rm -rf diffuStats.buildbin-libdir && mkdir diffuStats.buildbin-libdir && /Users/biocbuild/BBS/utils/build-universal.sh diffuStats_1.31.0.tar.gz /Library/Frameworks/R.framework/Resources/bin/R diffuStats.buildbin-libdir StartedAt: 2025-11-20 01:30:30 -0500 (Thu, 20 Nov 2025) EndedAt: 2025-11-20 01:31:07 -0500 (Thu, 20 Nov 2025) EllapsedTime: 36.9 seconds RetCode: 0 Status: OK PackageFile: diffuStats_1.31.0.tgz PackageFileSize: 1.435 MiB