Package: diffuStats Version: 1.31.0 Command: /Library/Frameworks/R.framework/Resources/bin/R CMD build --keep-empty-dirs --no-resave-data diffuStats StartedAt: 2025-11-19 16:50:03 -0500 (Wed, 19 Nov 2025) EndedAt: 2025-11-19 16:51:02 -0500 (Wed, 19 Nov 2025) EllapsedTime: 59.4 seconds RetCode: 0 Status: OK PackageFile: diffuStats_1.31.0.tar.gz PackageFileSize: 1.329 MiB