Package: diffuStats Version: 1.31.0 Command: /Library/Frameworks/R.framework/Resources/bin/R CMD INSTALL diffuStats StartedAt: 2025-11-19 15:16:01 -0500 (Wed, 19 Nov 2025) EndedAt: 2025-11-19 15:16:37 -0500 (Wed, 19 Nov 2025) EllapsedTime: 36.7 seconds RetCode: 0 Status: OK