Package: easyreporting Version: 1.23.0 Command: /Library/Frameworks/R.framework/Resources/bin/R CMD build --keep-empty-dirs --no-resave-data easyreporting StartedAt: 2025-11-18 16:25:36 -0500 (Tue, 18 Nov 2025) EndedAt: 2025-11-18 16:25:40 -0500 (Tue, 18 Nov 2025) EllapsedTime: 4.0 seconds RetCode: 0 Status: OK PackageFile: easyreporting_1.23.0.tar.gz PackageFileSize: 2.94 MiB