Package: enrichViewNet Version: 1.9.0 Command: /Library/Frameworks/R.framework/Resources/bin/R CMD INSTALL enrichViewNet StartedAt: 2025-11-18 15:34:47 -0500 (Tue, 18 Nov 2025) EndedAt: 2025-11-18 15:34:57 -0500 (Tue, 18 Nov 2025) EllapsedTime: 10.3 seconds RetCode: 0 Status: OK