Package: enrichplot Version: 1.31.0 Command: /Library/Frameworks/R.framework/Resources/bin/R CMD INSTALL enrichplot StartedAt: 2025-11-18 15:34:37 -0500 (Tue, 18 Nov 2025) EndedAt: 2025-11-18 15:34:46 -0500 (Tue, 18 Nov 2025) EllapsedTime: 9.7 seconds RetCode: 0 Status: OK