Package: enrichplot Version: 1.31.0 Command: rm -rf enrichplot.buildbin-libdir && mkdir enrichplot.buildbin-libdir && /Users/biocbuild/BBS/utils/build-universal.sh enrichplot_1.31.0.tar.gz /Library/Frameworks/R.framework/Resources/bin/R enrichplot.buildbin-libdir StartedAt: 2025-11-20 01:32:12 -0500 (Thu, 20 Nov 2025) EndedAt: 2025-11-20 01:32:48 -0500 (Thu, 20 Nov 2025) EllapsedTime: 35.8 seconds RetCode: 0 Status: OK PackageFile: enrichplot_1.31.0.tgz PackageFileSize: 306 KiB