Package: enrichplot Version: 1.31.0 Command: /Library/Frameworks/R.framework/Resources/bin/R CMD build --keep-empty-dirs --no-resave-data enrichplot StartedAt: 2025-11-19 16:56:58 -0500 (Wed, 19 Nov 2025) EndedAt: 2025-11-19 16:57:27 -0500 (Wed, 19 Nov 2025) EllapsedTime: 29.7 seconds RetCode: 0 Status: OK PackageFile: enrichplot_1.31.0.tar.gz PackageFileSize: 96.52 KiB