Package: enrichplot Version: 1.31.0 Command: /home/biocbuild/bbs-3.23-bioc/R/bin/R CMD INSTALL enrichplot StartedAt: 2025-11-18 16:38:25 -0500 (Tue, 18 Nov 2025) EndedAt: 2025-11-18 16:38:50 -0500 (Tue, 18 Nov 2025) EllapsedTime: 24.9 seconds RetCode: 0 Status: OK