Package: ensembldb Version: 2.35.0 Command: /Library/Frameworks/R.framework/Resources/bin/R CMD INSTALL ensembldb StartedAt: 2025-11-18 15:31:01 -0500 (Tue, 18 Nov 2025) EndedAt: 2025-11-18 15:31:18 -0500 (Tue, 18 Nov 2025) EllapsedTime: 16.8 seconds RetCode: 0 Status: OK